BEGIN:VCALENDAR
VERSION:2.0
CALSCALE:GREGORIAN
PRODID:-//Diputació de Barcelona//DibaCMS//EN
BEGIN:VEVENT
UID:7054
DTSTAMP:20260420T115107
DTSTART:20130425T000000
DTEND:20130425T000000
SUMMARY:Píndoles formatives per la recerca activa de feina
LOCATION:
METHOD:PUBLISH
X-WR-CALNAME:caldesm@caldesdemontbui.cat
X-WR-TIMEZONE:Europe/Madrid
DESCRIPTION:
URI:https://www.caldesdemontbui.cat/actualitat/agenda/pindoles-formatives-per-la-recerca-activa-de-feina.html
CLASS:PUBLIC
END:VEVENT
END:VCALENDAR
