BEGIN:VCALENDAR
VERSION:2.0
CALSCALE:GREGORIAN
PRODID:-//Diputació de Barcelona//DibaCMS//EN
BEGIN:VEVENT
UID:6997
DTSTAMP:20260420T201036
DTSTART:20130410T090000
DTEND:20130410T000000
SUMMARY:Seminari "Generació d'idees i creació d'empreses" adreçat a les persones emprenedores i empreses de nova creació
LOCATION:
METHOD:PUBLISH
X-WR-CALNAME:caldesm@caldesdemontbui.cat
X-WR-TIMEZONE:Europe/Madrid
DESCRIPTION:
URI:https://www.caldesdemontbui.cat/actualitat/agenda/seminari-generacio-didees-i-creacio-dempreses-adrecat-a-les-persones-emprenedores-i-empreses-de-nova-creacio.html
CLASS:PUBLIC
END:VEVENT
END:VCALENDAR
