BEGIN:VCALENDAR
VERSION:2.0
CALSCALE:GREGORIAN
PRODID:-//Diputació de Barcelona//DibaCMS//EN
BEGIN:VEVENT
UID:6954
DTSTAMP:20260426T024947
DTSTART:20130321T180000
DTEND:20130321T000000
SUMMARY:Contes en anglès. STORY TIME: The princess and the pea
LOCATION:
METHOD:PUBLISH
X-WR-CALNAME:caldesm@caldesdemontbui.cat
X-WR-TIMEZONE:Europe/Madrid
DESCRIPTION:
URI:https://www.caldesdemontbui.cat/actualitat/agenda/contes-en-angles-story-time-the-princess-and-the-pea.html
CLASS:PUBLIC
END:VEVENT
END:VCALENDAR
