BEGIN:VCALENDAR
VERSION:2.0
CALSCALE:GREGORIAN
PRODID:-//Diputació de Barcelona//DibaCMS//EN
BEGIN:VEVENT
UID:6947
DTSTAMP:20260426T025037
DTSTART:20130319T093000
DTEND:20130319T000000
SUMMARY:Proper curs de formació ocupacional: Certificat de manipulació d'aliments
LOCATION:
METHOD:PUBLISH
X-WR-CALNAME:caldesm@caldesdemontbui.cat
X-WR-TIMEZONE:Europe/Madrid
DESCRIPTION:
URI:https://www.caldesdemontbui.cat/actualitat/agenda/proper-curs-de-formacio-ocupacional-certificat-de-manipulacio-daliments.html
CLASS:PUBLIC
END:VEVENT
END:VCALENDAR
