BEGIN:VCALENDAR
VERSION:2.0
CALSCALE:GREGORIAN
PRODID:-//Diputació de Barcelona//DibaCMS//EN
BEGIN:VEVENT
UID:6945
DTSTAMP:20260425T204426
DTSTART:20130318T183000
DTEND:20130318T000000
SUMMARY:Sessió informativa dirigida a les persones emprenedores i a les empreses: "Novetats fiscals i IVA 2013"
LOCATION:
METHOD:PUBLISH
X-WR-CALNAME:caldesm@caldesdemontbui.cat
X-WR-TIMEZONE:Europe/Madrid
DESCRIPTION:
URI:https://www.caldesdemontbui.cat/actualitat/agenda/sessio-informativa-dirigida-a-les-persones-emprenedores-i-a-les-empreses-novetats-fiscals-i-iva-2013.html
CLASS:PUBLIC
END:VEVENT
END:VCALENDAR
