BEGIN:VCALENDAR
VERSION:2.0
CALSCALE:GREGORIAN
PRODID:-//Diputació de Barcelona//DibaCMS//EN
BEGIN:VEVENT
UID:6944
DTSTAMP:20260426T002106
DTSTART:20130317T190000
DTEND:20130317T000000
SUMMARY:V Cicle Musicasino. Cicle: Joves músics, grans concerts
LOCATION:
METHOD:PUBLISH
X-WR-CALNAME:caldesm@caldesdemontbui.cat
X-WR-TIMEZONE:Europe/Madrid
DESCRIPTION:
URI:https://www.caldesdemontbui.cat/actualitat/agenda/v-cicle-musicasino-cicle-joves-msics-grans-concerts.html
CLASS:PUBLIC
END:VEVENT
END:VCALENDAR
