BEGIN:VCALENDAR
VERSION:2.0
CALSCALE:GREGORIAN
PRODID:-//Diputació de Barcelona//DibaCMS//EN
BEGIN:VEVENT
UID:6943
DTSTAMP:20260425T225051
DTSTART:20130317T180000
DTEND:20130317T000000
SUMMARY:25è Concurs Taca'm. La Companyia Acte Quatre, de Granollers, interpreta La Moral de la Senyora Dulska, de Gabriela Zapolska
LOCATION:
METHOD:PUBLISH
X-WR-CALNAME:caldesm@caldesdemontbui.cat
X-WR-TIMEZONE:Europe/Madrid
DESCRIPTION:
URI:https://www.caldesdemontbui.cat/actualitat/agenda/25e-concurs-tacam-la-companyia-acte-quatre-de-granollers-interpreta-la-moral-de-la-senyora-dulska-de-gabriela-zapolska.html
CLASS:PUBLIC
END:VEVENT
END:VCALENDAR
