BEGIN:VCALENDAR
VERSION:2.0
CALSCALE:GREGORIAN
PRODID:-//Diputació de Barcelona//DibaCMS//EN
BEGIN:VEVENT
UID:6940
DTSTAMP:20260426T060533
DTSTART:20130316T223000
DTEND:20130316T000000
SUMMARY:V Cicle Musicasino. Gran concert dels Sirex
LOCATION:
METHOD:PUBLISH
X-WR-CALNAME:caldesm@caldesdemontbui.cat
X-WR-TIMEZONE:Europe/Madrid
DESCRIPTION:
URI:https://www.caldesdemontbui.cat/actualitat/agenda/v-cicle-musicasino-gran-concert-dels-sirex.html
CLASS:PUBLIC
END:VEVENT
END:VCALENDAR
