BEGIN:VCALENDAR
VERSION:2.0
CALSCALE:GREGORIAN
PRODID:-//Diputació de Barcelona//DibaCMS//EN
BEGIN:VEVENT
UID:6939
DTSTAMP:20260426T060644
DTSTART:20130316T100000
DTEND:20130317T000000
SUMMARY:Fem bullir l'olla! Mercat de l'olla i la caldera de Caldes de Montbui
LOCATION:
METHOD:PUBLISH
X-WR-CALNAME:caldesm@caldesdemontbui.cat
X-WR-TIMEZONE:Europe/Madrid
DESCRIPTION:
URI:https://www.caldesdemontbui.cat/actualitat/agenda/fem-bullir-lolla-mercat-de-lolla-i-la-caldera-de-caldes-de-montbui.html
CLASS:PUBLIC
END:VEVENT
END:VCALENDAR
