BEGIN:VCALENDAR
VERSION:2.0
CALSCALE:GREGORIAN
PRODID:-//Diputació de Barcelona//DibaCMS//EN
BEGIN:VEVENT
UID:6937
DTSTAMP:20260426T001944
DTSTART:20130315T123000
DTEND:20130315T000000
SUMMARY:Agenda d'activitats per a Gent Gran. Trobada grup de colònies i calçotada
LOCATION:
METHOD:PUBLISH
X-WR-CALNAME:caldesm@caldesdemontbui.cat
X-WR-TIMEZONE:Europe/Madrid
DESCRIPTION:
URI:https://www.caldesdemontbui.cat/actualitat/agenda/agenda-dactivitats-per-a-gent-gran-trobada-grup-de-colonies-i-calcotada.html
CLASS:PUBLIC
END:VEVENT
END:VCALENDAR
