BEGIN:VCALENDAR
VERSION:2.0
CALSCALE:GREGORIAN
PRODID:-//Diputació de Barcelona//DibaCMS//EN
BEGIN:VEVENT
UID:6936
DTSTAMP:20260425T223348
DTSTART:20130315T110000
DTEND:20130315T000000
SUMMARY:Exposició de pintures i escultures de Patrick Chupin, del 15 de març al 2 d'abril
LOCATION:
METHOD:PUBLISH
X-WR-CALNAME:caldesm@caldesdemontbui.cat
X-WR-TIMEZONE:Europe/Madrid
DESCRIPTION:
URI:https://www.caldesdemontbui.cat/actualitat/agenda/exposicio-de-pintures-i-escultures-de-patrick-chupin-del-15-de-marc-al-2-dabril.html
CLASS:PUBLIC
END:VEVENT
END:VCALENDAR
