BEGIN:VCALENDAR
VERSION:2.0
CALSCALE:GREGORIAN
PRODID:-//Diputació de Barcelona//DibaCMS//EN
BEGIN:VEVENT
UID:6935
DTSTAMP:20260426T014948
DTSTART:20130315T100000
DTEND:20130315T000000
SUMMARY:Agenda d'activitats per a Gent Gran. Reunió de la Coordinadora de Gent Gran
LOCATION:
METHOD:PUBLISH
X-WR-CALNAME:caldesm@caldesdemontbui.cat
X-WR-TIMEZONE:Europe/Madrid
DESCRIPTION:
URI:https://www.caldesdemontbui.cat/actualitat/agenda/agenda-dactivitats-per-a-gent-gran-reunio-de-la-coordinadora-de-gent-gran.html
CLASS:PUBLIC
END:VEVENT
END:VCALENDAR
