BEGIN:VCALENDAR
VERSION:2.0
CALSCALE:GREGORIAN
PRODID:-//Diputació de Barcelona//DibaCMS//EN
BEGIN:VEVENT
UID:6934
DTSTAMP:20260426T012550
DTSTART:20130314T200000
DTEND:20130314T000000
SUMMARY:Propera acció formativa per famílies. Xerrada: "Com ajudar els fills a estudiar"
LOCATION:
METHOD:PUBLISH
X-WR-CALNAME:caldesm@caldesdemontbui.cat
X-WR-TIMEZONE:Europe/Madrid
DESCRIPTION:
URI:https://www.caldesdemontbui.cat/actualitat/agenda/propera-accio-formativa-per-families-xerrada-com-ajudar-els-fills-a-estudiar.html
CLASS:PUBLIC
END:VEVENT
END:VCALENDAR
