BEGIN:VCALENDAR
VERSION:2.0
CALSCALE:GREGORIAN
PRODID:-//Diputació de Barcelona//DibaCMS//EN
BEGIN:VEVENT
UID:6933
DTSTAMP:20260426T014122
DTSTART:20130314T100000
DTEND:20130314T000000
SUMMARY:Segona píndola formativa per la recerca activa de feina del Servei d''Ocupació
LOCATION:
METHOD:PUBLISH
X-WR-CALNAME:caldesm@caldesdemontbui.cat
X-WR-TIMEZONE:Europe/Madrid
DESCRIPTION:
URI:https://www.caldesdemontbui.cat/actualitat/agenda/segona-pindola-formativa-per-la-recerca-activa-de-feina-del-servei-docupacio.html
CLASS:PUBLIC
END:VEVENT
END:VCALENDAR
