BEGIN:VCALENDAR
VERSION:2.0
CALSCALE:GREGORIAN
PRODID:-//Diputació de Barcelona//DibaCMS//EN
BEGIN:VEVENT
UID:6932
DTSTAMP:20260425T191910
DTSTART:20130313T210000
DTEND:20130313T000000
SUMMARY:Fem bullir l'olla: Sopar de cuina romana
LOCATION:
METHOD:PUBLISH
X-WR-CALNAME:caldesm@caldesdemontbui.cat
X-WR-TIMEZONE:Europe/Madrid
DESCRIPTION:
URI:https://www.caldesdemontbui.cat/actualitat/agenda/fem-bullir-lolla-sopar-de-cuina-romana.html
CLASS:PUBLIC
END:VEVENT
END:VCALENDAR
