BEGIN:VCALENDAR
VERSION:2.0
CALSCALE:GREGORIAN
PRODID:-//Diputació de Barcelona//DibaCMS//EN
BEGIN:VEVENT
UID:6931
DTSTAMP:20260426T042916
DTSTART:20130313T160000
DTEND:20130313T000000
SUMMARY:Activitats del 8 de març, Dia Internacional de les Dones
LOCATION:
METHOD:PUBLISH
X-WR-CALNAME:caldesm@caldesdemontbui.cat
X-WR-TIMEZONE:Europe/Madrid
DESCRIPTION:
URI:https://www.caldesdemontbui.cat/actualitat/agenda/activitats-del-8-de-marc-dia-internacional-de-les-dones.html
CLASS:PUBLIC
END:VEVENT
END:VCALENDAR
