BEGIN:VCALENDAR
VERSION:2.0
CALSCALE:GREGORIAN
PRODID:-//Diputació de Barcelona//DibaCMS//EN
BEGIN:VEVENT
UID:6930
DTSTAMP:20260425T223455
DTSTART:20130313T090000
DTEND:20130313T000000
SUMMARY:Agenda d'activitats per a Gent Gran. Visita a la Vall de Bianya
LOCATION:
METHOD:PUBLISH
X-WR-CALNAME:caldesm@caldesdemontbui.cat
X-WR-TIMEZONE:Europe/Madrid
DESCRIPTION:
URI:https://www.caldesdemontbui.cat/actualitat/agenda/agenda-dactivitats-per-a-gent-gran-visita-a-la-vall-de-bianya.html
CLASS:PUBLIC
END:VEVENT
END:VCALENDAR
