BEGIN:VCALENDAR
VERSION:2.0
CALSCALE:GREGORIAN
PRODID:-//Diputació de Barcelona//DibaCMS//EN
BEGIN:VEVENT
UID:6928
DTSTAMP:20260426T000827
DTSTART:20130313T090000
DTEND:20130313T000000
SUMMARY:Sortida a la vinya del Llobet i mirador d'en Sanosa, fins la Torre Nova
LOCATION:
METHOD:PUBLISH
X-WR-CALNAME:caldesm@caldesdemontbui.cat
X-WR-TIMEZONE:Europe/Madrid
DESCRIPTION:
URI:https://www.caldesdemontbui.cat/actualitat/agenda/sortida-a-la-vinya-del-llobet-i-mirador-den-sanosa-fins-la-torre-nova.html
CLASS:PUBLIC
END:VEVENT
END:VCALENDAR
