BEGIN:VCALENDAR
VERSION:2.0
CALSCALE:GREGORIAN
PRODID:-//Diputació de Barcelona//DibaCMS//EN
BEGIN:VEVENT
UID:6927
DTSTAMP:20260425T221949
DTSTART:20130313T000000
DTEND:20130407T000000
SUMMARY:Fem bullir l'olla: Jornades gastronòmiques de l'olla i la caldera (cuina romana als restaurants)
LOCATION:
METHOD:PUBLISH
X-WR-CALNAME:caldesm@caldesdemontbui.cat
X-WR-TIMEZONE:Europe/Madrid
DESCRIPTION:
URI:https://www.caldesdemontbui.cat/actualitat/agenda/fem-bullir-lolla-jornades-gastronomiques-de-lolla-i-la-caldera-cuina-romana-als-restaurants.html
CLASS:PUBLIC
END:VEVENT
END:VCALENDAR
