BEGIN:VCALENDAR
VERSION:2.0
CALSCALE:GREGORIAN
PRODID:-//Diputació de Barcelona//DibaCMS//EN
BEGIN:VEVENT
UID:6926
DTSTAMP:20260420T214542
DTSTART:20130311T160000
DTEND:20130311T000000
SUMMARY:Servei d'Assessoria Jurídica per a dones 
LOCATION:
METHOD:PUBLISH
X-WR-CALNAME:caldesm@caldesdemontbui.cat
X-WR-TIMEZONE:Europe/Madrid
DESCRIPTION:
URI:https://www.caldesdemontbui.cat/actualitat/agenda/servei-dassessoria-juridica-per-a-dones-.html
CLASS:PUBLIC
END:VEVENT
END:VCALENDAR
