BEGIN:VCALENDAR
VERSION:2.0
CALSCALE:GREGORIAN
PRODID:-//Diputació de Barcelona//DibaCMS//EN
BEGIN:VEVENT
UID:6925
DTSTAMP:20260426T042855
DTSTART:20130310T190000
DTEND:20130310T000000
SUMMARY:V Cicle Musicasino. Trio de Jotes
LOCATION:
METHOD:PUBLISH
X-WR-CALNAME:caldesm@caldesdemontbui.cat
X-WR-TIMEZONE:Europe/Madrid
DESCRIPTION:
URI:https://www.caldesdemontbui.cat/actualitat/agenda/v-cicle-musicasino-trio-de-jotes.html
CLASS:PUBLIC
END:VEVENT
END:VCALENDAR
