BEGIN:VCALENDAR
VERSION:2.0
CALSCALE:GREGORIAN
PRODID:-//Diputació de Barcelona//DibaCMS//EN
BEGIN:VEVENT
UID:6923
DTSTAMP:20260426T062117
DTSTART:20130310T180000
DTEND:20130310T000000
SUMMARY:25è Concurs Taca'm. La Companyia Gespa-TelÓbert, de Barcelona, interpreta Assajant Romeo i Julieta, de Miquel Secall
LOCATION:
METHOD:PUBLISH
X-WR-CALNAME:caldesm@caldesdemontbui.cat
X-WR-TIMEZONE:Europe/Madrid
DESCRIPTION:
URI:https://www.caldesdemontbui.cat/actualitat/agenda/25e-concurs-tacam-la-companyia-gespa-telobert-de-barcelona-interpreta-assajant-romeo-i-julieta-de-miquel-secall.html
CLASS:PUBLIC
END:VEVENT
END:VCALENDAR
