BEGIN:VCALENDAR
VERSION:2.0
CALSCALE:GREGORIAN
PRODID:-//Diputació de Barcelona//DibaCMS//EN
BEGIN:VEVENT
UID:6922
DTSTAMP:20260426T061455
DTSTART:20130310T093000
DTEND:20130310T000000
SUMMARY:Gimcana d'orientació i xocolatada
LOCATION:
METHOD:PUBLISH
X-WR-CALNAME:caldesm@caldesdemontbui.cat
X-WR-TIMEZONE:Europe/Madrid
DESCRIPTION:
URI:https://www.caldesdemontbui.cat/actualitat/agenda/gimcana-dorientacio-i-xocolatada.html
CLASS:PUBLIC
END:VEVENT
END:VCALENDAR
