BEGIN:VCALENDAR
VERSION:2.0
CALSCALE:GREGORIAN
PRODID:-//Diputació de Barcelona//DibaCMS//EN
BEGIN:VEVENT
UID:6921
DTSTAMP:20260426T042630
DTSTART:20130309T180000
DTEND:20130309T000000
SUMMARY:Sessió de Rialles. Fantàstic!
LOCATION:
METHOD:PUBLISH
X-WR-CALNAME:caldesm@caldesdemontbui.cat
X-WR-TIMEZONE:Europe/Madrid
DESCRIPTION:
URI:https://www.caldesdemontbui.cat/actualitat/agenda/sessio-de-rialles-fantastic.html
CLASS:PUBLIC
END:VEVENT
END:VCALENDAR
