BEGIN:VCALENDAR
VERSION:2.0
CALSCALE:GREGORIAN
PRODID:-//Diputació de Barcelona//DibaCMS//EN
BEGIN:VEVENT
UID:6912
DTSTAMP:20260426T061755
DTSTART:20130306T170000
DTEND:20130306T000000
SUMMARY:Jornades de portes obertes a l'Escola Montbui
LOCATION:
METHOD:PUBLISH
X-WR-CALNAME:caldesm@caldesdemontbui.cat
X-WR-TIMEZONE:Europe/Madrid
DESCRIPTION:
URI:https://www.caldesdemontbui.cat/actualitat/agenda/jornades-de-portes-obertes-a-lescola-montbui.html
CLASS:PUBLIC
END:VEVENT
END:VCALENDAR
