BEGIN:VCALENDAR
VERSION:2.0
CALSCALE:GREGORIAN
PRODID:-//Diputació de Barcelona//DibaCMS//EN
BEGIN:VEVENT
UID:6909
DTSTAMP:20260426T060404
DTSTART:20130305T000000
DTEND:20130305T000000
SUMMARY:Exposició "20 anys de foc"
LOCATION:
METHOD:PUBLISH
X-WR-CALNAME:caldesm@caldesdemontbui.cat
X-WR-TIMEZONE:Europe/Madrid
DESCRIPTION:
URI:https://www.caldesdemontbui.cat/actualitat/agenda/exposicio-20-anys-de-foc.html
CLASS:PUBLIC
END:VEVENT
END:VCALENDAR
