BEGIN:VCALENDAR
VERSION:2.0
CALSCALE:GREGORIAN
PRODID:-//Diputació de Barcelona//DibaCMS//EN
BEGIN:VEVENT
UID:6905
DTSTAMP:20260426T060421
DTSTART:20130303T113000
DTEND:20130303T000000
SUMMARY:Calçotada popular 
LOCATION:
METHOD:PUBLISH
X-WR-CALNAME:caldesm@caldesdemontbui.cat
X-WR-TIMEZONE:Europe/Madrid
DESCRIPTION:
URI:https://www.caldesdemontbui.cat/actualitat/agenda/calcotada-popular-.html
CLASS:PUBLIC
END:VEVENT
END:VCALENDAR
