BEGIN:VCALENDAR
VERSION:2.0
CALSCALE:GREGORIAN
PRODID:-//Diputació de Barcelona//DibaCMS//EN
BEGIN:VEVENT
UID:6903
DTSTAMP:20260425T223606
DTSTART:20130302T223000
DTEND:20130302T000000
SUMMARY:Ball de Saló. DJ Miki Rodríguez 
LOCATION:
METHOD:PUBLISH
X-WR-CALNAME:caldesm@caldesdemontbui.cat
X-WR-TIMEZONE:Europe/Madrid
DESCRIPTION:
URI:https://www.caldesdemontbui.cat/actualitat/agenda/ball-de-salo-dj-miki-rodriguez-.html
CLASS:PUBLIC
END:VEVENT
END:VCALENDAR
