BEGIN:VCALENDAR
VERSION:2.0
CALSCALE:GREGORIAN
PRODID:-//Diputació de Barcelona//DibaCMS//EN
BEGIN:VEVENT
UID:6900
DTSTAMP:20260426T010936
DTSTART:20130301T201500
DTEND:20130301T000000
SUMMARY:Conferència "Energia Verda per un planeta blau" 
LOCATION:
METHOD:PUBLISH
X-WR-CALNAME:caldesm@caldesdemontbui.cat
X-WR-TIMEZONE:Europe/Madrid
DESCRIPTION:
URI:https://www.caldesdemontbui.cat/actualitat/agenda/conferencia-energia-verda-per-un-planeta-blau-.html
CLASS:PUBLIC
END:VEVENT
END:VCALENDAR
