BEGIN:VCALENDAR
VERSION:2.0
CALSCALE:GREGORIAN
PRODID:-//Diputació de Barcelona//DibaCMS//EN
BEGIN:VEVENT
UID:6899
DTSTAMP:20260425T193709
DTSTART:20130301T193000
DTEND:20130301T000000
SUMMARY:Presentació del llibre "Les 50 millors excursions amb raquetes de neu" a càrrec de l'autor Manel Figuera
LOCATION:
METHOD:PUBLISH
X-WR-CALNAME:caldesm@caldesdemontbui.cat
X-WR-TIMEZONE:Europe/Madrid
DESCRIPTION:
URI:https://www.caldesdemontbui.cat/actualitat/agenda/presentacio-del-llibre-les-50-millors-excursions-amb-raquetes-de-neu-a-carrec-de-lautor-manel-figuera.html
CLASS:PUBLIC
END:VEVENT
END:VCALENDAR
