BEGIN:VCALENDAR
VERSION:2.0
CALSCALE:GREGORIAN
PRODID:-//Diputació de Barcelona//DibaCMS//EN
BEGIN:VEVENT
UID:6897
DTSTAMP:20260425T194000
DTSTART:20130228T100000
DTEND:20130228T000000
SUMMARY:Xerrada per a la recerca activa de feina: "Habilitats comunicatives", a càrrec de Teresa Baró (Inscripció prèvia)
LOCATION:
METHOD:PUBLISH
X-WR-CALNAME:caldesm@caldesdemontbui.cat
X-WR-TIMEZONE:Europe/Madrid
DESCRIPTION:
URI:https://www.caldesdemontbui.cat/actualitat/agenda/xerrada-per-a-la-recerca-activa-de-feina-habilitats-comunicatives-a-carrec-de-teresa-baro-inscripcio-previa.html
CLASS:PUBLIC
END:VEVENT
END:VCALENDAR
