BEGIN:VCALENDAR
VERSION:2.0
CALSCALE:GREGORIAN
PRODID:-//Diputació de Barcelona//DibaCMS//EN
BEGIN:VEVENT
UID:6894
DTSTAMP:20260426T024915
DTSTART:20130227T090000
DTEND:20130227T000000
SUMMARY:Agenda d'activitats per a la gent gran. Caminada al Mas d'en Sisa
LOCATION:
METHOD:PUBLISH
X-WR-CALNAME:caldesm@caldesdemontbui.cat
X-WR-TIMEZONE:Europe/Madrid
DESCRIPTION:
URI:https://www.caldesdemontbui.cat/actualitat/agenda/agenda-dactivitats-per-a-la-gent-gran-caminada-al-mas-den-sisa.html
CLASS:PUBLIC
END:VEVENT
END:VCALENDAR
