BEGIN:VCALENDAR
VERSION:2.0
CALSCALE:GREGORIAN
PRODID:-//Diputació de Barcelona//DibaCMS//EN
BEGIN:VEVENT
UID:6892
DTSTAMP:20260426T031426
DTSTART:20130225T190000
DTEND:20130225T000000
SUMMARY:Club de lectura. Xerrada sobre l'obra El Llapis del fuster, de Manuel Rivas,
LOCATION:
METHOD:PUBLISH
X-WR-CALNAME:caldesm@caldesdemontbui.cat
X-WR-TIMEZONE:Europe/Madrid
DESCRIPTION:
URI:https://www.caldesdemontbui.cat/actualitat/agenda/club-de-lectura-xerrada-sobre-lobra-el-llapis-del-fuster-de-manuel-rivas.html
CLASS:PUBLIC
END:VEVENT
END:VCALENDAR
