BEGIN:VCALENDAR
VERSION:2.0
CALSCALE:GREGORIAN
PRODID:-//Diputació de Barcelona//DibaCMS//EN
BEGIN:VEVENT
UID:6889
DTSTAMP:20260426T014209
DTSTART:20130224T180000
DTEND:20130224T000000
SUMMARY:25è Concurs Taca'm. El Grup de Teatre de Sant Hipòlit, de St. Hipòlit de Voltregà, interpreta el Mercader de Venència, de William Shakespeare
LOCATION:
METHOD:PUBLISH
X-WR-CALNAME:caldesm@caldesdemontbui.cat
X-WR-TIMEZONE:Europe/Madrid
DESCRIPTION:
URI:https://www.caldesdemontbui.cat/actualitat/agenda/25e-concurs-tacam-el-grup-de-teatre-de-sant-hipolit-de-st-hipolit-de-voltrega-interpreta-el-mercader-de-venencia-de-william-shakespeare.html
CLASS:PUBLIC
END:VEVENT
END:VCALENDAR
