BEGIN:VCALENDAR
VERSION:2.0
CALSCALE:GREGORIAN
PRODID:-//Diputació de Barcelona//DibaCMS//EN
BEGIN:VEVENT
UID:6888
DTSTAMP:20260426T060111
DTSTART:20130224T123000
DTEND:20130224T000000
SUMMARY:Concert de presentació de la Cobla Vila de Caldes.
LOCATION:
METHOD:PUBLISH
X-WR-CALNAME:caldesm@caldesdemontbui.cat
X-WR-TIMEZONE:Europe/Madrid
DESCRIPTION:
URI:https://www.caldesdemontbui.cat/actualitat/agenda/concert-de-presentacio-de-la-cobla-vila-de-caldes.html
CLASS:PUBLIC
END:VEVENT
END:VCALENDAR
