BEGIN:VCALENDAR
VERSION:2.0
CALSCALE:GREGORIAN
PRODID:-//Diputació de Barcelona//DibaCMS//EN
BEGIN:VEVENT
UID:6881
DTSTAMP:20260426T060219
DTSTART:20130222T200000
DTEND:20130222T000000
SUMMARY:IV Cicle Parlem de Catalunya. La relació democràtica Catalunya i Espanya
LOCATION:
METHOD:PUBLISH
X-WR-CALNAME:caldesm@caldesdemontbui.cat
X-WR-TIMEZONE:Europe/Madrid
DESCRIPTION:
URI:https://www.caldesdemontbui.cat/actualitat/agenda/iv-cicle-parlem-de-catalunya-la-relacio-democratica-catalunya-i-espanya.html
CLASS:PUBLIC
END:VEVENT
END:VCALENDAR
