BEGIN:VCALENDAR
VERSION:2.0
CALSCALE:GREGORIAN
PRODID:-//Diputació de Barcelona//DibaCMS//EN
BEGIN:VEVENT
UID:6877
DTSTAMP:20260425T235127
DTSTART:20130221T180000
DTEND:20130221T000000
SUMMARY:Contes en anglès. STORY TIME: The Amazing Astronaut
LOCATION:
METHOD:PUBLISH
X-WR-CALNAME:caldesm@caldesdemontbui.cat
X-WR-TIMEZONE:Europe/Madrid
DESCRIPTION:
URI:https://www.caldesdemontbui.cat/actualitat/agenda/contes-en-angles-story-time-the-amazing-astronaut.html
CLASS:PUBLIC
END:VEVENT
END:VCALENDAR
