BEGIN:VCALENDAR
VERSION:2.0
CALSCALE:GREGORIAN
PRODID:-//Diputació de Barcelona//DibaCMS//EN
BEGIN:VEVENT
UID:6872
DTSTAMP:20260425T203435
DTSTART:20130217T100000
DTEND:20130217T000000
SUMMARY:Fira d'antiquaris i brocanters 
LOCATION:
METHOD:PUBLISH
X-WR-CALNAME:caldesm@caldesdemontbui.cat
X-WR-TIMEZONE:Europe/Madrid
DESCRIPTION:
URI:https://www.caldesdemontbui.cat/actualitat/agenda/fira-dantiquaris-i-brocanters-02-13.html
CLASS:PUBLIC
END:VEVENT
END:VCALENDAR
