BEGIN:VCALENDAR
VERSION:2.0
CALSCALE:GREGORIAN
PRODID:-//Diputació de Barcelona//DibaCMS//EN
BEGIN:VEVENT
UID:6870
DTSTAMP:20260425T233422
DTSTART:20130217T000000
DTEND:20130217T000000
SUMMARY:Matinal a la comarca d'Osona, pels entorns de Vic
LOCATION:
METHOD:PUBLISH
X-WR-CALNAME:caldesm@caldesdemontbui.cat
X-WR-TIMEZONE:Europe/Madrid
DESCRIPTION:
URI:https://www.caldesdemontbui.cat/actualitat/agenda/matinal-a-la-comarca-dosona-pels-entorns-de-vic.html
CLASS:PUBLIC
END:VEVENT
END:VCALENDAR
