BEGIN:VCALENDAR
VERSION:2.0
CALSCALE:GREGORIAN
PRODID:-//Diputació de Barcelona//DibaCMS//EN
BEGIN:VEVENT
UID:6868
DTSTAMP:20260426T024657
DTSTART:20130216T000000
DTEND:20130216T000000
SUMMARY:Agenda d'activitats per a la gent gran. Sardinada i ball
LOCATION:
METHOD:PUBLISH
X-WR-CALNAME:caldesm@caldesdemontbui.cat
X-WR-TIMEZONE:Europe/Madrid
DESCRIPTION:
URI:https://www.caldesdemontbui.cat/actualitat/agenda/agenda-dactivitats-per-a-la-gent-gran-sardinada-i-ball.html
CLASS:PUBLIC
END:VEVENT
END:VCALENDAR
