BEGIN:VCALENDAR
VERSION:2.0
CALSCALE:GREGORIAN
PRODID:-//Diputació de Barcelona//DibaCMS//EN
BEGIN:VEVENT
UID:6866
DTSTAMP:20260426T012238
DTSTART:20130215T173000
DTEND:20130215T000000
SUMMARY:Xerrada "Aspectes fonamentals de l'evolució humana"
LOCATION:
METHOD:PUBLISH
X-WR-CALNAME:caldesm@caldesdemontbui.cat
X-WR-TIMEZONE:Europe/Madrid
DESCRIPTION:
URI:https://www.caldesdemontbui.cat/actualitat/agenda/xerrada-aspectes-fonamentals-de-levolucio-humana.html
CLASS:PUBLIC
END:VEVENT
END:VCALENDAR
