BEGIN:VCALENDAR
VERSION:2.0
CALSCALE:GREGORIAN
PRODID:-//Diputació de Barcelona//DibaCMS//EN
BEGIN:VEVENT
UID:6861
DTSTAMP:20260425T191031
DTSTART:20130213T090000
DTEND:20130213T000000
SUMMARY:Caminada fins als Saulons
LOCATION:
METHOD:PUBLISH
X-WR-CALNAME:caldesm@caldesdemontbui.cat
X-WR-TIMEZONE:Europe/Madrid
DESCRIPTION:
URI:https://www.caldesdemontbui.cat/actualitat/agenda/caminada-fins-als-saulons.html
CLASS:PUBLIC
END:VEVENT
END:VCALENDAR
