BEGIN:VCALENDAR
VERSION:2.0
CALSCALE:GREGORIAN
PRODID:-//Diputació de Barcelona//DibaCMS//EN
BEGIN:VEVENT
UID:6860
DTSTAMP:20260425T204350
DTSTART:20130212T000000
DTEND:20130212T000000
SUMMARY:Agenda d'activitats per a la gent gran. Curs d'informàtica "Aproximació , xarxes socials i projectes digitals"
LOCATION:
METHOD:PUBLISH
X-WR-CALNAME:caldesm@caldesdemontbui.cat
X-WR-TIMEZONE:Europe/Madrid
DESCRIPTION:
URI:https://www.caldesdemontbui.cat/actualitat/agenda/agenda-dactivitats-per-a-la-gent-gran-curs-dinformatica-aproximacio--xarxes-socials-i-projectes-digitals.html
CLASS:PUBLIC
END:VEVENT
END:VCALENDAR
