BEGIN:VCALENDAR
VERSION:2.0
CALSCALE:GREGORIAN
PRODID:-//Diputació de Barcelona//DibaCMS//EN
BEGIN:VEVENT
UID:6857
DTSTAMP:20260425T223251
DTSTART:20130210T180000
DTEND:20130210T000000
SUMMARY:25è Concurs Taca'm. La Companyia de Mel i Sucre, de Barcelona, interpreta Sis Misteris de Dario Fo
LOCATION:
METHOD:PUBLISH
X-WR-CALNAME:caldesm@caldesdemontbui.cat
X-WR-TIMEZONE:Europe/Madrid
DESCRIPTION:
URI:https://www.caldesdemontbui.cat/actualitat/agenda/25e-concurs-tacam-la-companyia-de-mel-i-sucre-de-barcelona-interpreta-sis-misteris-de-dario-fo.html
CLASS:PUBLIC
END:VEVENT
END:VCALENDAR
