BEGIN:VCALENDAR
VERSION:2.0
CALSCALE:GREGORIAN
PRODID:-//Diputació de Barcelona//DibaCMS//EN
BEGIN:VEVENT
UID:6855
DTSTAMP:20260426T011958
DTSTART:20130210T110000
DTEND:20130210T000000
SUMMARY:II Tast d'Olis de Productors Calderins
LOCATION:
METHOD:PUBLISH
X-WR-CALNAME:caldesm@caldesdemontbui.cat
X-WR-TIMEZONE:Europe/Madrid
DESCRIPTION:
URI:https://www.caldesdemontbui.cat/actualitat/agenda/ii-tast-dolis-de-productors-calderins.html
CLASS:PUBLIC
END:VEVENT
END:VCALENDAR
