BEGIN:VCALENDAR
VERSION:2.0
CALSCALE:GREGORIAN
PRODID:-//Diputació de Barcelona//DibaCMS//EN
BEGIN:VEVENT
UID:6853
DTSTAMP:20260425T223220
DTSTART:20130209T183000
DTEND:20130209T000000
SUMMARY:Rua de Carnaval 2013 i concurs de disfresses: de la pl. Romà Martí a la zona esportiva del Bugarai
LOCATION:
METHOD:PUBLISH
X-WR-CALNAME:caldesm@caldesdemontbui.cat
X-WR-TIMEZONE:Europe/Madrid
DESCRIPTION:
URI:https://www.caldesdemontbui.cat/actualitat/agenda/rua-de-carnaval-2013-i-concurs-de-disfresses-de-la-pl-roma-marti-a-la-zona-esportiva-del-bugarai.html
CLASS:PUBLIC
END:VEVENT
END:VCALENDAR
