BEGIN:VCALENDAR
VERSION:2.0
CALSCALE:GREGORIAN
PRODID:-//Diputació de Barcelona//DibaCMS//EN
BEGIN:VEVENT
UID:6852
DTSTAMP:20260426T010155
DTSTART:20130209T170000
DTEND:20130209T000000
SUMMARY:Carnaval 2013: Carnaval Infantil amb Can Seixanta (Cia Pep López)
LOCATION:
METHOD:PUBLISH
X-WR-CALNAME:caldesm@caldesdemontbui.cat
X-WR-TIMEZONE:Europe/Madrid
DESCRIPTION:
URI:https://www.caldesdemontbui.cat/actualitat/agenda/carnaval-2013-carnaval-infantil-amb-can-seixanta-cia-pep-lopez.html
CLASS:PUBLIC
END:VEVENT
END:VCALENDAR
