BEGIN:VCALENDAR
VERSION:2.0
CALSCALE:GREGORIAN
PRODID:-//Diputació de Barcelona//DibaCMS//EN
BEGIN:VEVENT
UID:6850
DTSTAMP:20260426T014637
DTSTART:20130208T160000
DTEND:20130208T000000
SUMMARY:Agenda d'activitats per a gent gran. Rua i Ball de disfresses
LOCATION:
METHOD:PUBLISH
X-WR-CALNAME:caldesm@caldesdemontbui.cat
X-WR-TIMEZONE:Europe/Madrid
DESCRIPTION:
URI:https://www.caldesdemontbui.cat/actualitat/agenda/agenda-dactivitats-per-a-gent-gran-rua-i-ball-de-disfresses.html
CLASS:PUBLIC
END:VEVENT
END:VCALENDAR
