BEGIN:VCALENDAR
VERSION:2.0
CALSCALE:GREGORIAN
PRODID:-//Diputació de Barcelona//DibaCMS//EN
BEGIN:VEVENT
UID:6848
DTSTAMP:20260426T014514
DTSTART:20130207T193000
DTEND:20130207T000000
SUMMARY:Presentació de l'exposició de fotografia "Seguint les petjades dels romans. Els camins de l'aigua". 
LOCATION:
METHOD:PUBLISH
X-WR-CALNAME:caldesm@caldesdemontbui.cat
X-WR-TIMEZONE:Europe/Madrid
DESCRIPTION:
URI:https://www.caldesdemontbui.cat/actualitat/agenda/presentacio-de-lexposicio-de-fotografia-seguint-les-petjades-dels-romans-els-camins-de-laigua-.html
CLASS:PUBLIC
END:VEVENT
END:VCALENDAR
