BEGIN:VCALENDAR
VERSION:2.0
CALSCALE:GREGORIAN
PRODID:-//Diputació de Barcelona//DibaCMS//EN
BEGIN:VEVENT
UID:6847
DTSTAMP:20260426T010515
DTSTART:20130207T180000
DTEND:20130207T000000
SUMMARY:Taller de disfresses de personatges de contes
LOCATION:
METHOD:PUBLISH
X-WR-CALNAME:caldesm@caldesdemontbui.cat
X-WR-TIMEZONE:Europe/Madrid
DESCRIPTION:
URI:https://www.caldesdemontbui.cat/actualitat/agenda/taller-de-disfresses-de-personatges-de-contes.html
CLASS:PUBLIC
END:VEVENT
END:VCALENDAR
